BEGIN:VCALENDAR
VERSION:2.0
PRODID:-//wp-events-plugin.com//7.2.3.1//EN
TZID:Europe/Paris
X-WR-TIMEZONE:Europe/Paris
BEGIN:VEVENT
UID:15@le-garric.fr
DTSTART;TZID=Europe/Paris:20211114T170000
DTEND;TZID=Europe/Paris:20211114T170000
DTSTAMP:20221220T125042Z
URL:http://www.le-garric.fr/events/cabaret-de-magie-2021/
SUMMARY:Cabaret de magie 2021
DESCRIPTION:Cette année\, le cabaret magique est un spectacle composite to
 ut public imaginé par la compagnie 14:20 pour présenter la magie et ses 
 diversités. Voyage irréel\, tours de cartes\, ombromanie\, objets « mon
 strueux »\, facétieux... ou comment\, à travers différents numéros\, 
 la magie se revendique mouvement artistique à part entière\, riche en su
 rprises !\nDes musiciens live accompagnent et tissent le lien entre les ar
 tistes\, par des créations originales réalisées pour l’occasion. La c
 ompagnie 14:20 vous invite à une soirée pleine de mystères et d’encha
 ntements.\nAu programme :\nAntoine Terrieux avec "La Plume"\nPhilippe Beau
  avec "Ombre au piano"\nRémi Lasvenes avec "Apesanteur"\nCalista Sinclair
  avec "La vieille dame"\nKim Huynh avec "Etoiles"\n\n---\n15eme cabaret de
  magie\ndimanche 14 novembre 17h\nMaison de la musique - Cap’découverte
 \n15€ plein tarif I 12€ réduit\nRéservations :\nMaison de la musique
  05 63 80 29 01\nOffice de tourisme 05 63 76 76 67\nwww.seetickets.com
ATTACH;FMTTYPE=image/jpeg:http://www.le-garric.fr/wp-content/uploads/2021/
 09/cabaret-magie2021.jpg
CATEGORIES:Animation
LOCATION:Maison de la Musique - Cap Découverte\, Cap découverte\, le garr
 ic\, 81450\, France
GEO:44.014818843526534;2.139764644457955
X-APPLE-STRUCTURED-LOCATION;VALUE=URI;X-ADDRESS=Cap découverte\, le garric
 \, 81450\, France;X-APPLE-RADIUS=100;X-TITLE=Maison de la Musique - Cap D
 écouverte:geo:44.014818843526534,2.139764644457955
END:VEVENT
BEGIN:VTIMEZONE
TZID:Europe/Paris
X-LIC-LOCATION:Europe/Paris
BEGIN:STANDARD
DTSTART:20211031T020000
TZOFFSETFROM:+0200
TZOFFSETTO:+0100
TZNAME:CET
END:STANDARD
END:VTIMEZONE
END:VCALENDAR