BEGIN:VCALENDAR
VERSION:2.0
PRODID:-//wp-events-plugin.com//7.2.3.1//EN
TZID:Europe/Paris
X-WR-TIMEZONE:Europe/Paris
BEGIN:VEVENT
UID:35@le-garric.fr
DTSTART;TZID=Europe/Paris:20221120T080000
DTEND;TZID=Europe/Paris:20221120T173000
DTSTAMP:20221220T125042Z
URL:http://www.le-garric.fr/events/bourse-aux-jouets-et-vetements/
SUMMARY:Bourse aux jouets et vetements
DESCRIPTION:
ATTACH;FMTTYPE=image/jpeg:http://www.le-garric.fr/wp-content/uploads/2022/
 10/bourse-jouets-2022.jpg
CATEGORIES:Animation
END:VEVENT
BEGIN:VTIMEZONE
TZID:Europe/Paris
X-LIC-LOCATION:Europe/Paris
BEGIN:STANDARD
DTSTART:20221030T020000
TZOFFSETFROM:+0200
TZOFFSETTO:+0100
TZNAME:CET
END:STANDARD
END:VTIMEZONE
END:VCALENDAR