BEGIN:VCALENDAR
VERSION:2.0
PRODID:-//wp-events-plugin.com//7.2.3.1//EN
TZID:Europe/Paris
X-WR-TIMEZONE:Europe/Paris
BEGIN:VEVENT
UID:29@le-garric.fr
DTSTART;TZID=Europe/Paris;VALUE=DATE:20211114
DTEND;TZID=Europe/Paris;VALUE=DATE:20211115
DTSTAMP:20221220T125042Z
URL:http://www.le-garric.fr/events/bourse-aux-jouets-2/
SUMMARY:Bourse aux jouets
DESCRIPTION:Bourse aux jouets\, vêtements et articles de puériculture org
 anisé par l'APE
ATTACH;FMTTYPE=image/jpeg:http://www.le-garric.fr/wp-content/uploads/2021/
 10/bourse-aux-jouets.jpg
CATEGORIES:Animation
LOCATION:Gymnase Le Garric\, Rue Jules Ferry\, LE GARRIC\, 81450\, France
X-APPLE-STRUCTURED-LOCATION;VALUE=URI;X-ADDRESS=Rue Jules Ferry\, LE GARRIC
 \, 81450\, France;X-APPLE-RADIUS=100;X-TITLE=Gymnase Le Garric:geo:0,0
END:VEVENT
BEGIN:VTIMEZONE
TZID:Europe/Paris
X-LIC-LOCATION:Europe/Paris
BEGIN:STANDARD
DTSTART:20211031T020000
TZOFFSETFROM:+0200
TZOFFSETTO:+0100
TZNAME:CET
END:STANDARD
END:VTIMEZONE
END:VCALENDAR