BEGIN:VCALENDAR
VERSION:2.0
PRODID:-//wp-events-plugin.com//7.2.3.1//EN
TZID:Europe/Paris
X-WR-TIMEZONE:Europe/Paris
BEGIN:VEVENT
UID:83@le-garric.fr
DTSTART:20170506T193000Z
DTEND:20170506T193000Z
DTSTAMP:20221220T125039Z
URL:http://www.le-garric.fr/events/big-data/
SUMMARY:BIG DATA
DESCRIPTION:Cie La Quincaillerie Moderne\n\nSAMEDI 6 MAI à 20h30\nEntrée 
 à 20 € (tarif plein) / et tarifs scène nationale 16€/11€/9€\nMai
 son de la Musique / Cap’Découverte\n81450 LE GARRIC\n*** Billetterie en
  ligne www.sn-albi.fr/albilletterie.php\n*** renseignements Maison de la M
 usique 05 63 80 29 01 ***\n\nDans le cadre du mois des arts numériques\, 
 proposé par la Scène Nationale d’Albi et la Maison de la Musique à Ca
 p Découverte.\n\n« Big data » est une expression anglophone utilisée p
 our désigner des ensembles de données qui deviennent tellement volumineu
 x qu’ils en deviennent difficiles à travailler avec des outils classiqu
 es de gestion de bases de donnée ou de gestion de l’information… »\n
 \nEntrez dans la matrice\, vous ne verrez plus internet comme avant…\nUn
  homme avance sur scène et allume son ordinateur portable. Devant vos yeu
 x\, des centaines\, des milliers de pages web s’érigent\, défilent\, s
 e succèdent à un rythme de plus en plus effréné.\n\nQuelles révolutio
 ns culturelles et cognitives impliquent les nouvelles technologies numéri
 ques\, l’intelligence artificielle ? Quels rapports entretenons-nous ave
 c la machine ?\n\nA la frontière entre philosophie\, arts numériques et 
 danse\, Big Data est un lieu d’expérimentation. La Cie la Quincaillerie
  Moderne avec Benjamin Villemagne à la conception et mise en scène\, y i
 nterroge la révolution technologique que nous sommes en train de vivre\, 
 le langage qui en découle\, le mode de vie qu’elle induit\, tout en dia
 loguant simultanément avec le spectateur.\nC’est la grande force de son
  univers\, atypique et rassembleur.
CATEGORIES:Théatre
LOCATION:Maison de la Musique - Cap Découverte\, Cap découverte\, le garr
 ic\, 81450\, France
GEO:44.014818843526534;2.139764644457955
X-APPLE-STRUCTURED-LOCATION;VALUE=URI;X-ADDRESS=Cap découverte\, le garric
 \, 81450\, France;X-APPLE-RADIUS=100;X-TITLE=Maison de la Musique - Cap D
 écouverte:geo:44.014818843526534,2.139764644457955
END:VEVENT
END:VCALENDAR