BEGIN:VCALENDAR
VERSION:2.0
PRODID:-//wp-events-plugin.com//7.2.3.1//EN
TZID:Europe/Paris
X-WR-TIMEZONE:Europe/Paris
BEGIN:VEVENT
UID:12@le-garric.fr
DTSTART;TZID=Europe/Paris:20210606T170000
DTEND;TZID=Europe/Paris:20210606T170000
DTSTAMP:20221220T125042Z
URL:http://www.le-garric.fr/events/animation-a-la-mediatheque/
SUMMARY:Animation à la médiathèque
DESCRIPTION:Venez écouter un brin de musique\n\nUne programmation proposé
 e par La Médiathèque Départementale\n\nRéservation obligatoire
ATTACH;FMTTYPE=image/jpeg:http://www.le-garric.fr/wp-content/uploads/2021/
 05/Dimanche_6_juin_2021_a_17h_Mediatheque_Lucie_Aubrac_Le_garric.jpg
CATEGORIES:Animation
LOCATION:Espace Lucie Aubrac\, 15 Route de Valderies\, LE GARRIC\, 81450\, 
 France
X-APPLE-STRUCTURED-LOCATION;VALUE=URI;X-ADDRESS=15 Route de Valderies\, LE 
 GARRIC\, 81450\, France;X-APPLE-RADIUS=100;X-TITLE=Espace Lucie Aubrac:geo
 :0,0
END:VEVENT
BEGIN:VTIMEZONE
TZID:Europe/Paris
X-LIC-LOCATION:Europe/Paris
BEGIN:DAYLIGHT
DTSTART:20210328T030000
TZOFFSETFROM:+0100
TZOFFSETTO:+0200
TZNAME:CEST
END:DAYLIGHT
END:VTIMEZONE
END:VCALENDAR