BEGIN:VCALENDAR
VERSION:2.0
PRODID:-//wp-events-plugin.com//7.2.3.1//EN
TZID:Europe/Paris
X-WR-TIMEZONE:Europe/Paris
BEGIN:VEVENT
UID:85@le-garric.fr
DTSTART:20170524T200000Z
DTEND:20170524T200000Z
DTSTAMP:20221220T125039Z
URL:http://www.le-garric.fr/events/ali-baba-opera-comique-de-charles-lecoc
 q/
SUMMARY:ALI BABA “opéra-comique de Charles Lecocq”
DESCRIPTION:Classes de chant du Conservatoire\n \nMERCREDI 24 MAI à 21h00
 \nEntrée gratuite pas de réservation\nMaison de la Musique / Cap’Déco
 uverte\n81450 LE GARRIC\n*** renseignements au 05 63 80 29 01 ***\n \nTr
 ès régulièrement\, les élèves des classes de chant du Conservatoire d
 e Musique du Tarn se confrontent à un ouvrage lyrique.\n \nCette année
 \, après Orphée aux Enfers/Offenbach\, L'Europe Galante/Campra ou Armide
 /Gluck\, c'est Charles Lecocq qui est à l'honneur avec un ouvrage au tit
 re très évocateur : Ali Baba. La création de cet ouvrage a lieu à Bru
 xelles au théâtre de l'Alhambra en 1887 et connaît un immense succès.
  La création parisienne a lieu en 1889 au théâtre de l'Athénée.\nAve
 c une abondante production\, Charles Lecocq devient très rapidement le ma
 ître de l'opérette parisienne en cette fin du XIXe siècle. Conformém
 ent au genre de l'opéra-comique\, Ali Baba alterne passages parlés et pa
 ssages chantés.\nLes élèves-chanteurs du Conservatoire\, dans le cadre 
 d'un tel projet pédagogique\, seront donc confrontés à une triple prat
 ique artistique mêlant ainsi chant\, comédie et danse.\nLes deux librett
 istes\, Albert Vanloo et William Busnach\, s'inspirent évidemment du cél
 èbre conte extrait des "Mille et une nuits"\, Ali Baba et les quarante vo
 leurs\, qui a bercé notre enfance. A l'origine\, Ali Baba passe pour un 
 conte assez brutal et cruel mais Lecocq et ses deux librettistes prennent 
 quelques libertés pour nous offrir un spectacle léger\, enjoué où l'h
 umour et les jeux de mots ont la part belle.\nParmi les personnages princi
 paux aux côtés d'Ali Baba\, nous retrouverons Morgiane\, servante d'Ali 
 Baba\, Cassim\, marchand dans le bazar de Bagdad et son épouse Zobéide\
 , Saladin\, son employé amoureux de Morgiane\, Kandgiar\, le chef des vo
 leurs et son adjoint\, Zizi. Après de nombreuses péripéties\, le dénou
 ement sera bien évidemment heureux puisque Ali Baba épousera la belle M
 orgiane.\nEspérons que personne n'oubliera la célèbre formule magique 
 !\n \nClasses de chant  de Nadia Yermani et Didier Oueillé\nPiano : Fr
 ançois Barotte\nMise en espace : Didier Oueillé\nChorégraphie : Natha
 lie Foulquier\n \nUne action CMDT et la Maison de la Musique à Cap Déco
 uverte
CATEGORIES:Concert
LOCATION:Maison de la Musique - Cap Découverte\, Cap découverte\, le garr
 ic\, 81450\, France
GEO:44.014818843526534;2.139764644457955
X-APPLE-STRUCTURED-LOCATION;VALUE=URI;X-ADDRESS=Cap découverte\, le garric
 \, 81450\, France;X-APPLE-RADIUS=100;X-TITLE=Maison de la Musique - Cap D
 écouverte:geo:44.014818843526534,2.139764644457955
END:VEVENT
END:VCALENDAR