BEGIN:VCALENDAR
VERSION:2.0
PRODID:-//wp-events-plugin.com//7.2.3.1//EN
TZID:Europe/Paris
X-WR-TIMEZONE:Europe/Paris
BEGIN:VEVENT
UID:34@le-garric.fr
DTSTART;TZID=Europe/Paris:20221011T203000
DTEND;TZID=Europe/Paris:20221011T203000
DTSTAMP:20221220T125042Z
URL:http://www.le-garric.fr/events/ahora-y-siempre/
SUMMARY:Ahora y Siempre
DESCRIPTION:Passionnée par le flamenco\, le jazz et la musique sud-améric
 aine\, Lydie Fuerte contribue à créer plusieurs groupes (Elya trio\, Dya
 de) qui alimentent son expérience de la scène grâce à de nombreux conc
 erts jusqu’à une récompense\, le prix du magazine Guitarist acoustic 
 « Lauréats 2011 Guitarist Acoustic ».\nAujourd’hui\, riche de ce parc
 ours très éclectique\, Lydie Fuerte se consacre à son propre univers\, 
 elle compose ses propres oeuvres. Autour de sa guitare\, elle réunit plus
 ieurs artistes de talent tels que Juan Manuel Cortes aux percussions\, Alb
 erto García au chant\, et offre au public un nouveau spectacle Ahora y si
 empre.\n\nen savoir + : cliquez-ici
ATTACH;FMTTYPE=image/jpeg:http://www.le-garric.fr/wp-content/uploads/2022/
 09/AhoraYSiempreLeGarric.jpg
CATEGORIES:Concert
LOCATION:Espace Lucie Aubrac\, 15 Route de Valderies\, LE GARRIC\, 81450\, 
 France
X-APPLE-STRUCTURED-LOCATION;VALUE=URI;X-ADDRESS=15 Route de Valderies\, LE 
 GARRIC\, 81450\, France;X-APPLE-RADIUS=100;X-TITLE=Espace Lucie Aubrac:geo
 :0,0
END:VEVENT
BEGIN:VTIMEZONE
TZID:Europe/Paris
X-LIC-LOCATION:Europe/Paris
BEGIN:DAYLIGHT
DTSTART:20220327T030000
TZOFFSETFROM:+0100
TZOFFSETTO:+0200
TZNAME:CEST
END:DAYLIGHT
END:VTIMEZONE
END:VCALENDAR