BEGIN:VCALENDAR
VERSION:2.0
PRODID:-//wp-events-plugin.com//7.2.3.1//EN
TZID:Europe/Paris
X-WR-TIMEZONE:Europe/Paris
BEGIN:VEVENT
UID:99@le-garric.fr
DTSTART;VALUE=DATE:20180414
DTEND;VALUE=DATE:20180416
DTSTAMP:20221220T125040Z
URL:http://www.le-garric.fr/events/13eme-concours-national-dattelage/
SUMMARY:13ème Concours National d’Attelage
DESCRIPTION:Organisé par l’Attelage Tarnais\nSamedi 14 &amp\; le Dimanch
 e 15 avril de 9h à 17h\nParc Equestre Espace Festival de Cap Découverte\
 nGratuit pour le public\n81450 LE GARRIC\n* * * Renseignements 06-85-83-32
 -56 / contact@attelagetarnais.fr * * *\nL’attelage Tarnais\, sur le site
  de Cap Découverte\, organise son concours national annuel où une cinqua
 ntaine de concurrents se retrouveront les 14 et 15 avril.\nQuelques grands
  de l’attelage tels que BENJAMIN AILLAUD\, FREDERIC BOUSQUET\, CLAIRE LE
 FORT\, seront présents lors de ces grandes journées. Cette année\, le c
 lub sera représenté par ALEXIS ANSELME et ses chevaux anglo-boulonnais\,
  ainsi que GUY FERRENBACH et ses comtois.\nEt pour promouvoir l’Handispo
 rt\, ERIC MAZARS meneur tarnais\, avec un seul bras\, sera le fer de lance
  de cette dynamique.\nUn régal pour les yeux de voir  ces champions\, et
  passionnés d’attelage\, à un\, deux ou quatre chevaux\,  tourner dan
 s les obstacles avec une dextérité\, une communion meneur-chevaux.\nTout
  au long du mois de Mars\, les bénévoles vont préparer le site\, monter
  les obstacles\, sortir les drapeaux\, les voiles\, les bouteilles géante
 s\, donner vie et couleur au site de Cap Découverte\, préparer les paddo
 cks\, la carrière de dressage…\nLors de ce concours national\, chacun p
 ourra rivaliser d’élégance et savoir-faire\, la  piste de maniabilit
 é où le public pourra admirer la précision de conduite des attelages et
  l’obéissance des chevaux à la main et à la voix.\n\nPour finir\, le 
 dimanche\, le marathon sera jalonné de ses 6 obstacles avec des passages 
 délicats\, certes\, un peu d’appréhension pour les chevaux au passage 
 du gué.\n\nUn spectacle toujours aussi impressionnant pour les visiteurs 
 qui peuvent venir gratuitement apprécier cette compétition durant ces 2 
 journées.
ATTACH;FMTTYPE=image/jpeg:http://www.le-garric.fr/wp-content/uploads/2018/
 04/attelage2018.jpg
CATEGORIES:Animation
LOCATION:Eglise de Pouzounac\, Pouzounac\, LE GARRIC\, 81450\, France
GEO:44.019309216545395;2.1901073227538745
X-APPLE-STRUCTURED-LOCATION;VALUE=URI;X-ADDRESS=Pouzounac\, LE GARRIC\, 814
 50\, France;X-APPLE-RADIUS=100;X-TITLE=Eglise de Pouzounac:geo:44.01930921
 6545395,2.1901073227538745
END:VEVENT
END:VCALENDAR